Package: scde Version: 2.28.2 Command: rm -rf scde.buildbin-libdir && mkdir scde.buildbin-libdir && /Users/biocbuild/BBS/utils/build-universal.sh scde_2.28.2.tar.gz /Library/Frameworks/R.framework/Resources/bin/R scde.buildbin-libdir StartedAt: 2023-10-16 10:09:32 -0400 (Mon, 16 Oct 2023) EndedAt: 2023-10-16 10:12:46 -0400 (Mon, 16 Oct 2023) EllapsedTime: 193.8 seconds RetCode: 0 Status: OK PackageFile: scde_2.28.2.tgz PackageFileSize: 2.211 MiB