Package: scatterHatch Version: 1.6.0 Command: /home/biocbuild/bbs-3.17-bioc/R/bin/R CMD check --install=check:scatterHatch.install-out.txt --library=/home/biocbuild/bbs-3.17-bioc/R/site-library --timings scatterHatch_1.6.0.tar.gz StartedAt: 2023-10-16 00:46:01 -0400 (Mon, 16 Oct 2023) EndedAt: 2023-10-16 00:48:02 -0400 (Mon, 16 Oct 2023) EllapsedTime: 120.3 seconds RetCode: 0 Status: OK CheckDir: scatterHatch.Rcheck Warnings: 0