Package: scatterHatch Version: 1.6.0 Command: /home/biocbuild/bbs-3.17-bioc/R/bin/R CMD build --keep-empty-dirs --no-resave-data scatterHatch StartedAt: 2023-10-15 18:21:59 -0400 (Sun, 15 Oct 2023) EndedAt: 2023-10-15 18:22:41 -0400 (Sun, 15 Oct 2023) EllapsedTime: 42.0 seconds RetCode: 0 Status: OK PackageFile: scatterHatch_1.6.0.tar.gz PackageFileSize: 3.039 MiB