Package: scater Version: 1.28.0 Command: /Library/Frameworks/R.framework/Resources/bin/R CMD INSTALL scater StartedAt: 2023-10-15 16:15:58 -0400 (Sun, 15 Oct 2023) EndedAt: 2023-10-15 16:17:38 -0400 (Sun, 15 Oct 2023) EllapsedTime: 100.4 seconds RetCode: 0 Status: OK