Package: scanMiRApp Version: 1.6.0 Command: F:\biocbuild\bbs-3.17-bioc\R\bin\R.exe CMD check --no-multiarch --install=check:scanMiRApp.install-out.txt --library=F:\biocbuild\bbs-3.17-bioc\R\library --no-vignettes --timings scanMiRApp_1.6.0.tar.gz StartedAt: 2023-10-16 06:24:02 -0400 (Mon, 16 Oct 2023) EndedAt: 2023-10-16 06:28:46 -0400 (Mon, 16 Oct 2023) EllapsedTime: 283.8 seconds RetCode: 0 Status: WARNINGS CheckDir: scanMiRApp.Rcheck Warnings: 1