Package: scanMiRApp Version: 1.6.0 Command: rm -rf scanMiRApp.buildbin-libdir && mkdir scanMiRApp.buildbin-libdir && F:\biocbuild\bbs-3.17-bioc\R\bin\R.exe CMD INSTALL --build --library=scanMiRApp.buildbin-libdir scanMiRApp_1.6.0.tar.gz StartedAt: 2023-10-16 09:28:16 -0400 (Mon, 16 Oct 2023) EndedAt: 2023-10-16 09:29:10 -0400 (Mon, 16 Oct 2023) EllapsedTime: 53.8 seconds RetCode: 0 Status: OK PackageFile: scanMiRApp_1.6.0.zip PackageFileSize: 1.298 MiB