Package: scanMiRApp Version: 1.6.0 Command: /home/biocbuild/bbs-3.17-bioc/R/bin/R CMD INSTALL scanMiRApp StartedAt: 2023-10-15 15:49:49 -0400 (Sun, 15 Oct 2023) EndedAt: 2023-10-15 15:50:33 -0400 (Sun, 15 Oct 2023) EllapsedTime: 44.4 seconds RetCode: 0 Status: OK