Package: scanMiRApp Version: 1.6.0 Command: /home/biocbuild/bbs-3.17-bioc/R/bin/R CMD build --keep-empty-dirs --no-resave-data scanMiRApp StartedAt: 2023-10-15 18:21:27 -0400 (Sun, 15 Oct 2023) EndedAt: 2023-10-15 18:22:45 -0400 (Sun, 15 Oct 2023) EllapsedTime: 77.9 seconds RetCode: 0 Status: OK PackageFile: scanMiRApp_1.6.0.tar.gz PackageFileSize: 897.3 KiB