Package: scanMiRApp Version: 1.6.0 Command: /Library/Frameworks/R.framework/Resources/bin/R CMD INSTALL scanMiRApp StartedAt: 2023-10-15 16:32:17 -0400 (Sun, 15 Oct 2023) EndedAt: 2023-10-15 16:34:36 -0400 (Sun, 15 Oct 2023) EllapsedTime: 138.6 seconds RetCode: 0 Status: OK