Package: scanMiRApp Version: 1.6.0 Command: /Library/Frameworks/R.framework/Resources/bin/R CMD check --install=check:scanMiRApp.install-out.txt --library=/Library/Frameworks/R.framework/Resources/library --no-vignettes --timings scanMiRApp_1.6.0.tar.gz StartedAt: 2023-10-16 06:35:43 -0400 (Mon, 16 Oct 2023) EndedAt: 2023-10-16 06:47:43 -0400 (Mon, 16 Oct 2023) EllapsedTime: 720.9 seconds RetCode: 0 Status: WARNINGS CheckDir: scanMiRApp.Rcheck Warnings: 1