Package: scanMiRApp Version: 1.6.0 Command: /Library/Frameworks/R.framework/Resources/bin/R CMD build --keep-empty-dirs --no-resave-data scanMiRApp StartedAt: 2023-10-15 20:57:01 -0400 (Sun, 15 Oct 2023) EndedAt: 2023-10-15 20:59:50 -0400 (Sun, 15 Oct 2023) EllapsedTime: 169.5 seconds RetCode: 0 Status: OK PackageFile: scanMiRApp_1.6.0.tar.gz PackageFileSize: 899 KiB