Package: scanMiRApp Version: 1.6.0 Command: rm -rf scanMiRApp.buildbin-libdir && mkdir scanMiRApp.buildbin-libdir && /Users/biocbuild/BBS/utils/build-universal.sh scanMiRApp_1.6.0.tar.gz /Library/Frameworks/R.framework/Resources/bin/R scanMiRApp.buildbin-libdir StartedAt: 2023-10-16 10:08:51 -0400 (Mon, 16 Oct 2023) EndedAt: 2023-10-16 10:11:06 -0400 (Mon, 16 Oct 2023) EllapsedTime: 134.6 seconds RetCode: 0 Status: OK PackageFile: scanMiRApp_1.6.0.tgz PackageFileSize: 1.318 MiB