Package: scanMiR Version: 1.6.0 Command: /Library/Frameworks/R.framework/Resources/bin/R CMD check --install=check:scanMiR.install-out.txt --library=/Library/Frameworks/R.framework/Resources/library --no-vignettes --timings scanMiR_1.6.0.tar.gz StartedAt: 2023-10-16 06:35:38 -0400 (Mon, 16 Oct 2023) EndedAt: 2023-10-16 06:40:38 -0400 (Mon, 16 Oct 2023) EllapsedTime: 299.7 seconds RetCode: 0 Status: WARNINGS CheckDir: scanMiR.Rcheck Warnings: 1