Package: scanMiR Version: 1.6.0 Command: /Library/Frameworks/R.framework/Resources/bin/R CMD build --keep-empty-dirs --no-resave-data scanMiR StartedAt: 2023-10-15 20:56:47 -0400 (Sun, 15 Oct 2023) EndedAt: 2023-10-15 20:57:50 -0400 (Sun, 15 Oct 2023) EllapsedTime: 63.2 seconds RetCode: 0 Status: OK PackageFile: scanMiR_1.6.0.tar.gz PackageFileSize: 627.1 KiB