Package: scanMiR Version: 1.6.0 Command: rm -rf scanMiR.buildbin-libdir && mkdir scanMiR.buildbin-libdir && /Users/biocbuild/BBS/utils/build-universal.sh scanMiR_1.6.0.tar.gz /Library/Frameworks/R.framework/Resources/bin/R scanMiR.buildbin-libdir StartedAt: 2023-10-16 10:08:44 -0400 (Mon, 16 Oct 2023) EndedAt: 2023-10-16 10:09:40 -0400 (Mon, 16 Oct 2023) EllapsedTime: 56.1 seconds RetCode: 0 Status: OK PackageFile: scanMiR_1.6.0.tgz PackageFileSize: 883 KiB