Package: scTensor Version: 2.10.0 Command: rm -rf scTensor.buildbin-libdir && mkdir scTensor.buildbin-libdir && F:\biocbuild\bbs-3.17-bioc\R\bin\R.exe CMD INSTALL --build --library=scTensor.buildbin-libdir scTensor_2.10.0.tar.gz StartedAt: 2023-10-16 09:30:32 -0400 (Mon, 16 Oct 2023) EndedAt: 2023-10-16 09:31:46 -0400 (Mon, 16 Oct 2023) EllapsedTime: 74.4 seconds RetCode: 0 Status: OK PackageFile: scTensor_2.10.0.zip PackageFileSize: 5.665 MiB