git_url: https://git.bioconductor.org/packages/scTensor git_branch: RELEASE_3_17 git_last_commit: 32e2912 git_last_commit_date: 2023-04-25 11:06:25 -0400 (Tue, 25 Apr 2023) Package: scTensor Version: 2.10.0 Maintainer: Koki Tsuyuzaki MaintainerEmail: k.t.the-answer at hotmail.co.jp