Package: scTGIF Version: 1.14.0 Command: F:\biocbuild\bbs-3.17-bioc\R\bin\R.exe CMD INSTALL scTGIF StartedAt: 2023-10-15 16:45:22 -0400 (Sun, 15 Oct 2023) EndedAt: 2023-10-15 16:46:11 -0400 (Sun, 15 Oct 2023) EllapsedTime: 49.5 seconds RetCode: 0 Status: OK