Package: scTGIF Version: 1.14.0 Command: chmod a+r scTGIF -R && F:\biocbuild\bbs-3.17-bioc\R\bin\R.exe CMD build --keep-empty-dirs --no-resave-data scTGIF StartedAt: 2023-10-15 22:15:03 -0400 (Sun, 15 Oct 2023) EndedAt: 2023-10-15 22:16:23 -0400 (Sun, 15 Oct 2023) EllapsedTime: 80.0 seconds RetCode: 0 Status: OK PackageFile: scTGIF_1.14.0.tar.gz PackageFileSize: 2.367 MiB