Package: scTGIF Version: 1.14.0 Command: /home/biocbuild/bbs-3.17-bioc/R/bin/R CMD INSTALL scTGIF StartedAt: 2023-10-15 15:38:54 -0400 (Sun, 15 Oct 2023) EndedAt: 2023-10-15 15:39:34 -0400 (Sun, 15 Oct 2023) EllapsedTime: 40.5 seconds RetCode: 0 Status: OK