Package: scTGIF Version: 1.14.0 Command: /home/biocbuild/bbs-3.17-bioc/R/bin/R CMD check --install=check:scTGIF.install-out.txt --library=/home/biocbuild/bbs-3.17-bioc/R/site-library --timings scTGIF_1.14.0.tar.gz StartedAt: 2023-10-16 00:58:15 -0400 (Mon, 16 Oct 2023) EndedAt: 2023-10-16 01:03:21 -0400 (Mon, 16 Oct 2023) EllapsedTime: 306.1 seconds RetCode: 0 Status: OK CheckDir: scTGIF.Rcheck Warnings: 0