Package: scTGIF Version: 1.14.0 Command: /Library/Frameworks/R.framework/Resources/bin/R CMD build --keep-empty-dirs --no-resave-data scTGIF StartedAt: 2023-10-15 21:10:48 -0400 (Sun, 15 Oct 2023) EndedAt: 2023-10-15 21:14:07 -0400 (Sun, 15 Oct 2023) EllapsedTime: 198.6 seconds RetCode: 0 Status: OK PackageFile: scTGIF_1.14.0.tar.gz PackageFileSize: 2.386 MiB