Package: scTGIF Version: 1.14.0 Command: rm -rf scTGIF.buildbin-libdir && mkdir scTGIF.buildbin-libdir && /Users/biocbuild/BBS/utils/build-universal.sh scTGIF_1.14.0.tar.gz /Library/Frameworks/R.framework/Resources/bin/R scTGIF.buildbin-libdir StartedAt: 2023-10-16 10:11:27 -0400 (Mon, 16 Oct 2023) EndedAt: 2023-10-16 10:13:52 -0400 (Mon, 16 Oct 2023) EllapsedTime: 144.2 seconds RetCode: 0 Status: OK PackageFile: scTGIF_1.14.0.tgz PackageFileSize: 2.005 MiB