Package: scShapes Version: 1.6.0 Command: rm -rf scShapes.buildbin-libdir && mkdir scShapes.buildbin-libdir && F:\biocbuild\bbs-3.17-bioc\R\bin\R.exe CMD INSTALL --build --library=scShapes.buildbin-libdir scShapes_1.6.0.tar.gz StartedAt: 2023-10-16 09:30:31 -0400 (Mon, 16 Oct 2023) EndedAt: 2023-10-16 09:30:44 -0400 (Mon, 16 Oct 2023) EllapsedTime: 13.0 seconds RetCode: 0 Status: OK PackageFile: scShapes_1.6.0.zip PackageFileSize: 76.15 KiB