Package: scShapes Version: 1.6.0 Command: /home/biocbuild/bbs-3.17-bioc/R/bin/R CMD build --keep-empty-dirs --no-resave-data scShapes StartedAt: 2023-10-15 18:27:48 -0400 (Sun, 15 Oct 2023) EndedAt: 2023-10-15 18:29:12 -0400 (Sun, 15 Oct 2023) EllapsedTime: 83.5 seconds RetCode: 0 Status: OK PackageFile: scShapes_1.6.0.tar.gz PackageFileSize: 30.05 KiB