Package: scShapes Version: 1.6.0 Command: /Library/Frameworks/R.framework/Resources/bin/R CMD check --install=check:scShapes.install-out.txt --library=/Library/Frameworks/R.framework/Resources/library --no-vignettes --timings scShapes_1.6.0.tar.gz StartedAt: 2023-10-16 06:52:04 -0400 (Mon, 16 Oct 2023) EndedAt: 2023-10-16 06:59:39 -0400 (Mon, 16 Oct 2023) EllapsedTime: 454.8 seconds RetCode: 0 Status: OK CheckDir: scShapes.Rcheck Warnings: 0