Package: scShapes Version: 1.6.0 Command: /Library/Frameworks/R.framework/Resources/bin/R CMD build --keep-empty-dirs --no-resave-data scShapes StartedAt: 2023-10-15 21:10:11 -0400 (Sun, 15 Oct 2023) EndedAt: 2023-10-15 21:15:08 -0400 (Sun, 15 Oct 2023) EllapsedTime: 296.4 seconds RetCode: 0 Status: OK PackageFile: scShapes_1.6.0.tar.gz PackageFileSize: 29.87 KiB