Package: scRepertoire Version: 1.10.1 Command: F:\biocbuild\bbs-3.17-bioc\R\bin\R.exe CMD INSTALL scRepertoire StartedAt: 2023-10-15 16:18:52 -0400 (Sun, 15 Oct 2023) EndedAt: 2023-10-15 16:19:34 -0400 (Sun, 15 Oct 2023) EllapsedTime: 42.6 seconds RetCode: 0 Status: OK