Package: scRepertoire Version: 1.10.1 Command: chmod a+r scRepertoire -R && F:\biocbuild\bbs-3.17-bioc\R\bin\R.exe CMD build --keep-empty-dirs --no-resave-data scRepertoire StartedAt: 2023-10-15 22:13:13 -0400 (Sun, 15 Oct 2023) EndedAt: 2023-10-15 22:15:26 -0400 (Sun, 15 Oct 2023) EllapsedTime: 133.3 seconds RetCode: 0 Status: OK PackageFile: scRepertoire_1.10.1.tar.gz PackageFileSize: 3.342 MiB