Package: scRepertoire Version: 1.10.1 Command: rm -rf scRepertoire.buildbin-libdir && mkdir scRepertoire.buildbin-libdir && F:\biocbuild\bbs-3.17-bioc\R\bin\R.exe CMD INSTALL --build --library=scRepertoire.buildbin-libdir scRepertoire_1.10.1.tar.gz StartedAt: 2023-10-16 09:30:24 -0400 (Mon, 16 Oct 2023) EndedAt: 2023-10-16 09:31:07 -0400 (Mon, 16 Oct 2023) EllapsedTime: 43.4 seconds RetCode: 0 Status: OK PackageFile: scRepertoire_1.10.1.zip PackageFileSize: 4.222 MiB