Package: scRepertoire Version: 1.10.1 Command: /home/biocbuild/bbs-3.17-bioc/R/bin/R CMD INSTALL scRepertoire StartedAt: 2023-10-15 15:25:56 -0400 (Sun, 15 Oct 2023) EndedAt: 2023-10-15 15:26:28 -0400 (Sun, 15 Oct 2023) EllapsedTime: 32.7 seconds RetCode: 0 Status: OK