Package: scRepertoire Version: 1.10.1 Command: /home/biocbuild/bbs-3.17-bioc/R/bin/R CMD check --install=check:scRepertoire.install-out.txt --library=/home/biocbuild/bbs-3.17-bioc/R/site-library --timings scRepertoire_1.10.1.tar.gz StartedAt: 2023-10-16 00:56:36 -0400 (Mon, 16 Oct 2023) EndedAt: 2023-10-16 01:04:27 -0400 (Mon, 16 Oct 2023) EllapsedTime: 471.0 seconds RetCode: 0 Status: WARNINGS CheckDir: scRepertoire.Rcheck Warnings: 1