Package: scRepertoire Version: 1.10.1 Command: /home/biocbuild/bbs-3.17-bioc/R/bin/R CMD build --keep-empty-dirs --no-resave-data scRepertoire StartedAt: 2023-10-15 18:27:23 -0400 (Sun, 15 Oct 2023) EndedAt: 2023-10-15 18:29:21 -0400 (Sun, 15 Oct 2023) EllapsedTime: 118.1 seconds RetCode: 0 Status: OK PackageFile: scRepertoire_1.10.1.tar.gz PackageFileSize: 4.692 MiB