Package: scRepertoire Version: 1.10.1 Command: /Library/Frameworks/R.framework/Resources/bin/R CMD INSTALL scRepertoire StartedAt: 2023-10-15 15:44:07 -0400 (Sun, 15 Oct 2023) EndedAt: 2023-10-15 15:45:56 -0400 (Sun, 15 Oct 2023) EllapsedTime: 109.0 seconds RetCode: 0 Status: OK