Package: scRepertoire Version: 1.10.1 Command: /Library/Frameworks/R.framework/Resources/bin/R CMD check --install=check:scRepertoire.install-out.txt --library=/Library/Frameworks/R.framework/Resources/library --no-vignettes --timings scRepertoire_1.10.1.tar.gz StartedAt: 2023-10-16 06:50:54 -0400 (Mon, 16 Oct 2023) EndedAt: 2023-10-16 07:11:12 -0400 (Mon, 16 Oct 2023) EllapsedTime: 1218.7 seconds RetCode: 0 Status: WARNINGS CheckDir: scRepertoire.Rcheck Warnings: 1