Package: scRepertoire Version: 1.10.1 Command: /Library/Frameworks/R.framework/Resources/bin/R CMD build --keep-empty-dirs --no-resave-data scRepertoire StartedAt: 2023-10-15 21:08:52 -0400 (Sun, 15 Oct 2023) EndedAt: 2023-10-15 21:15:17 -0400 (Sun, 15 Oct 2023) EllapsedTime: 385.6 seconds RetCode: 0 Status: OK PackageFile: scRepertoire_1.10.1.tar.gz PackageFileSize: 4.847 MiB