Package: scRepertoire Version: 1.10.1 Command: rm -rf scRepertoire.buildbin-libdir && mkdir scRepertoire.buildbin-libdir && /Users/biocbuild/BBS/utils/build-universal.sh scRepertoire_1.10.1.tar.gz /Library/Frameworks/R.framework/Resources/bin/R scRepertoire.buildbin-libdir StartedAt: 2023-10-16 10:11:14 -0400 (Mon, 16 Oct 2023) EndedAt: 2023-10-16 10:13:12 -0400 (Mon, 16 Oct 2023) EllapsedTime: 117.8 seconds RetCode: 0 Status: OK PackageFile: scRepertoire_1.10.1.tgz PackageFileSize: 5.724 MiB