git_url: https://git.bioconductor.org/packages/scRepertoire git_branch: RELEASE_3_17 git_last_commit: 9698f1c git_last_commit_date: 2023-07-11 08:34:36 -0400 (Tue, 11 Jul 2023) Package: scRepertoire Version: 1.10.1 Maintainer: Nick Borcherding MaintainerEmail: ncborch at gmail.com