Package: scRecover Version: 1.16.0 Command: /home/biocbuild/bbs-3.17-bioc/R/bin/R CMD INSTALL scRecover StartedAt: 2023-10-15 15:41:08 -0400 (Sun, 15 Oct 2023) EndedAt: 2023-10-15 15:41:18 -0400 (Sun, 15 Oct 2023) EllapsedTime: 9.9 seconds RetCode: 0 Status: OK