Package: scRecover Version: 1.16.0 Command: /Library/Frameworks/R.framework/Resources/bin/R CMD build --keep-empty-dirs --no-resave-data scRecover StartedAt: 2023-10-15 21:08:22 -0400 (Sun, 15 Oct 2023) EndedAt: 2023-10-15 21:14:06 -0400 (Sun, 15 Oct 2023) EllapsedTime: 343.7 seconds RetCode: 0 Status: OK PackageFile: scRecover_1.16.0.tar.gz PackageFileSize: 1.713 MiB