Package: scReClassify Version: 1.6.0 Command: chmod a+r scReClassify -R && F:\biocbuild\bbs-3.17-bioc\R\bin\R.exe CMD build --keep-empty-dirs --no-resave-data scReClassify StartedAt: 2023-10-15 22:12:00 -0400 (Sun, 15 Oct 2023) EndedAt: 2023-10-15 22:15:19 -0400 (Sun, 15 Oct 2023) EllapsedTime: 199.3 seconds RetCode: 0 Status: OK PackageFile: scReClassify_1.6.0.tar.gz PackageFileSize: 2.539 MiB