Package: scReClassify Version: 1.6.0 Command: rm -rf scReClassify.buildbin-libdir && mkdir scReClassify.buildbin-libdir && F:\biocbuild\bbs-3.17-bioc\R\bin\R.exe CMD INSTALL --build --library=scReClassify.buildbin-libdir scReClassify_1.6.0.tar.gz StartedAt: 2023-10-16 09:30:04 -0400 (Mon, 16 Oct 2023) EndedAt: 2023-10-16 09:30:32 -0400 (Mon, 16 Oct 2023) EllapsedTime: 28.1 seconds RetCode: 0 Status: OK PackageFile: scReClassify_1.6.0.zip PackageFileSize: 2.44 MiB