Package: scRNAseqApp Version: 1.0.1 Command: /home/biocbuild/bbs-3.17-bioc/R/bin/R CMD INSTALL scRNAseqApp StartedAt: 2023-10-15 15:35:26 -0400 (Sun, 15 Oct 2023) EndedAt: 2023-10-15 15:36:22 -0400 (Sun, 15 Oct 2023) EllapsedTime: 56.0 seconds RetCode: 0 Status: OK