Package: scPipe Version: 2.0.0 Command: /home/biocbuild/bbs-3.17-bioc/R/bin/R CMD check --install=check:scPipe.install-out.txt --library=/home/biocbuild/bbs-3.17-bioc/R/site-library --timings scPipe_2.0.0.tar.gz StartedAt: 2023-10-16 00:54:32 -0400 (Mon, 16 Oct 2023) EndedAt: 2023-10-16 01:02:33 -0400 (Mon, 16 Oct 2023) EllapsedTime: 481.2 seconds RetCode: 0 Status: WARNINGS CheckDir: scPipe.Rcheck Warnings: 1