Package: scPCA Version: 1.14.0 Command: chmod a+r scPCA -R && F:\biocbuild\bbs-3.17-bioc\R\bin\R.exe CMD build --keep-empty-dirs --no-resave-data scPCA StartedAt: 2023-10-15 22:11:04 -0400 (Sun, 15 Oct 2023) EndedAt: 2023-10-15 22:16:17 -0400 (Sun, 15 Oct 2023) EllapsedTime: 313.3 seconds RetCode: 0 Status: OK PackageFile: scPCA_1.14.0.tar.gz PackageFileSize: 873.1 KiB