Package: scPCA Version: 1.14.0 Command: rm -rf scPCA.buildbin-libdir && mkdir scPCA.buildbin-libdir && F:\biocbuild\bbs-3.17-bioc\R\bin\R.exe CMD INSTALL --build --library=scPCA.buildbin-libdir scPCA_1.14.0.tar.gz StartedAt: 2023-10-16 09:29:51 -0400 (Mon, 16 Oct 2023) EndedAt: 2023-10-16 09:30:15 -0400 (Mon, 16 Oct 2023) EllapsedTime: 23.7 seconds RetCode: 0 Status: OK PackageFile: scPCA_1.14.0.zip PackageFileSize: 905.1 KiB