Package: scPCA Version: 1.14.0 Command: /Library/Frameworks/R.framework/Resources/bin/R CMD build --keep-empty-dirs --no-resave-data scPCA StartedAt: 2023-10-15 21:06:39 -0400 (Sun, 15 Oct 2023) EndedAt: 2023-10-15 21:25:07 -0400 (Sun, 15 Oct 2023) EllapsedTime: 1108.3 seconds RetCode: 0 Status: OK PackageFile: scPCA_1.14.0.tar.gz PackageFileSize: 1.803 MiB