Package: scMerge Version: 1.16.0 Command: rm -rf scMerge.buildbin-libdir && mkdir scMerge.buildbin-libdir && F:\biocbuild\bbs-3.17-bioc\R\bin\R.exe CMD INSTALL --build --library=scMerge.buildbin-libdir scMerge_1.16.0.tar.gz StartedAt: 2023-10-16 09:29:30 -0400 (Mon, 16 Oct 2023) EndedAt: 2023-10-16 09:30:16 -0400 (Mon, 16 Oct 2023) EllapsedTime: 46.0 seconds RetCode: 0 Status: OK PackageFile: scMerge_1.16.0.zip PackageFileSize: 2.656 MiB