Package: scMerge Version: 1.16.0 Command: /home/biocbuild/bbs-3.17-bioc/R/bin/R CMD INSTALL scMerge StartedAt: 2023-10-15 15:43:40 -0400 (Sun, 15 Oct 2023) EndedAt: 2023-10-15 15:44:26 -0400 (Sun, 15 Oct 2023) EllapsedTime: 45.1 seconds RetCode: 0 Status: OK