Package: scMerge Version: 1.16.0 Command: /home/biocbuild/bbs-3.17-bioc/R/bin/R CMD check --install=check:scMerge.install-out.txt --library=/home/biocbuild/bbs-3.17-bioc/R/site-library --timings scMerge_1.16.0.tar.gz StartedAt: 2023-10-16 00:51:48 -0400 (Mon, 16 Oct 2023) EndedAt: 2023-10-16 01:00:07 -0400 (Mon, 16 Oct 2023) EllapsedTime: 499.2 seconds RetCode: 0 Status: OK CheckDir: scMerge.Rcheck Warnings: 0